BEGIN:VCALENDAR
VERSION:2.0
PRODID:-//DIGITAL FACTORY//EVENTS MAKER V1.6.14//EN
CALSCALE:GREGORIAN
BEGIN:VEVENT
DTEND:20190415T203000Z
UID:69e54bebaf04c
DTSTAMP:20260419T214059Z
CATEGORIES:ΔΙΑΛΕΞΕΙΣ
LOCATION:ΠΟΛΙΤΙΣΤΙΚΟ ΚΕΝΤΡΟ ΔΗΜΟΥ ΑΓΙΟΥ ΑΘΑΝΑΣΙΟΥ 
DESCRIPTION:ΠΡΟΣΚΛΗΣΗ    Το Ανοικτό Σχολείο του Δήμου Αγίου Αθανασίου σας προσκαλεί σε διάλεξη με θέμα:    «Σχολικός Εκφοβισμός: Από τους Μύθους στις Πραγματικότητες – Ο ρόλος της Οικογένειας και του Σχολείου»    τη Δευτέρα 15 Απριλίου\, 2019 και ώρα 6.30μμ στο Πολιτιστικό Κέντρο του Δήμου (παλαιό Δημοτικό Σχολείο).    &nbsp\;    Ομιλήτρια:     Δωρίτα Μαρκαντώνη    Εκπαιδευτικός    Κάτοχος MSc in Leadership and Management in Education και    Εισηγήτρια σε θέματα Εκφοβισμού    &nbsp\;    Π.Α. (μόνο αν θα παραστείτε) στο τηλ. 97717187.    Είσοδος ελεύθερη.    Θα δοθούν πιστοποιητικά παρακολούθησης.              &nbsp\;
URL;VALUE=URI:https://www.openschoolcy.com/events/event/%cf%83%cf%87%ce%bf%ce%bb%ce%b9%ce%ba%cf%8c%cf%82-%ce%b5%ce%ba%cf%86%ce%bf%ce%b2%ce%b9%cf%83%ce%bc%cf%8c%cf%82-%ce%b1%cf%80%cf%8c-%cf%84%ce%bf%cf%85%cf%82-%ce%bc%cf%8d%ce%b8%ce%bf%cf%85%cf%82-%cf%83
SUMMARY:Σχολικός Εκφοβισμός: Από τους Μύθους στις Πραγματικότητες – Ο ρόλος της Οικογένειας και του Σχολείου
DTSTART:20190415T183000Z
END:VEVENT
END:VCALENDAR
