BEGIN:VCALENDAR
VERSION:2.0
PRODID:-//DIGITAL FACTORY//EVENTS MAKER V1.6.14//EN
CALSCALE:GREGORIAN
BEGIN:VEVENT
DTEND:20160315T210000Z
UID:69e4fb1eab293
DTSTAMP:20260419T155614Z
CATEGORIES:ΔΙΑΛΕΞΕΙΣ
LOCATION:ΠΟΛΙΤΙΣΤΙΚΟ ΚΕΝΤΡΟ ΔΗΜΟΥ ΑΓΙΟΥ ΑΘΑΝΑΣΙΟΥ 
DESCRIPTION:ΠΡΟΣΚΛΗΣΗ    Ο Δήμος Αγίου Αθανασίου και το «Ανοικτό Σχολείο» του σας προσκαλούν στις Ενημερωτικές Συναντήσεις Οικονομικών Θεμάτων που διοργανώνουν\,  με ομιλήτρια την κα Νάγια Κκούφου (Χρηματοοικονομική Αναλύτρια\, Σύμβουλο Αφερεγγυότητας)\, με στόχο την καλύτερη ενημέρωση των δημοτών αναφορικά με τις επιλογές τους βάση του Νόμου για την Αφερεγγυότητα\, όσο και για άλλα ζητήματα αναδιαρθρώσεων που έχουν προκύψει\, εξαιτίας της οικονομικής κρίσης\, στο Πολιτιστικό Κέντρο Δήμου Αγίου Αθανασίου (παλαιό δημοτικό σχολείο).     Τρίτη 15 Μαρτίου 2016 . 19.00    Διατάγματα Απαλλαγής Οφειλών - Πτωχεύσεις         Τρίτη 29 Μαρτίου 2016 . 19.00    Εγγυητές (δικαιώματα και υποχρεώσεις)    &nbsp\;    Πληροφορίες στο τηλ.: 97717187 / 25 864130                      Είσοδος Ελεύθερη σε όλες τις συναντήσεις
URL;VALUE=URI:https://www.openschoolcy.com/events/event/%cf%83%cf%85%ce%b6%ce%b7%cf%84%ce%b7%cf%83%ce%b7-%ce%b3%ce%b9%ce%b1-%ce%bd%ce%bf%ce%bc%ce%bf-%cf%80%ce%bb%ce%b1%ce%b9%cf%83%ce%b9%ce%bf-%ce%b1%cf%86%ce%b5%cf%81%ce%b5%ce%b3%ce%b3%cf%85%ce%bf%cf%84
SUMMARY:ΣΥΖΗΤΗΣΗ ΓΙΑ ΝΟΜΟ-ΠΛΑΙΣΙΟ ΑΦΕΡΕΓΓΥΟΤΗΤΑΣ
DTSTART:20160315T190000Z
END:VEVENT
END:VCALENDAR
