BEGIN:VCALENDAR
VERSION:2.0
PRODID:-//DIGITAL FACTORY//EVENTS MAKER V1.6.14//EN
CALSCALE:GREGORIAN
BEGIN:VEVENT
DTEND:20150313T130000Z
UID:69e5181d416aa
DTSTAMP:20260419T175957Z
LOCATION:ΠΟΛΙΤΙΣΤΙΚΟ ΚΕΝΤΡΟ ΔΗΜΟΥ ΑΓΙΟΥ ΑΘΑΝΑΣΙΟΥ 
DESCRIPTION:Ο Δήμος Αγίου Αθανασίου σε συνεργασία με το ερευνητικό Κέντρο CARDET και το Πανεπιστήμιο Λευκωσίας\, διοργανώνει διαπολιτισμικό εκπαιδευτικό σεμινάριο για τη δημιουργία αποτελεσματικών οργανωτικών δομών και ανάπτυξη επαγγελματικών ικανοτήτων που πρέπει να έχουν οι Τοπικές Αρχές και οι λειτουργοί τους που ασχολούνται με θέματα ένταξης Υπηκόων Τρίτων Χωρών. Απώτερος σκοπός του σεμιναρίου είναι η άμεση ενημέρωση των λειτουργών των Τοπικών Αρχών σχετικά με το δίκτυο και ειδικότερα να συνεισφέρει στην επαγγελματική τους κατάρτιση\, εφαρμόζοντας αποτελεσματικές πρακτικές διαχείρισης και ένταξης Υπηκόων Τρίτων Χωρών.        Το εκπαιδευτικό Σεμινάριο θα πραγματοποιηθεί την Παρασκευή 13 Μαρτίου\, 2015 στο Πολιτιστικό Κέντρο του Δήμου Αγίου Αθανασίου από τις 9.00 - 1.00μ.μ. Mετά το τέλος του σεμιναρίου θ’ ακολουθήσει γεύμα.    Παρακαλώ απαντήστε μέχρι τις 10/3/2015 στο τηλ. 25864107.
URL;VALUE=URI:https://www.openschoolcy.com/events/event/%cf%80%cf%81%ce%bf%cf%83%ce%ba%ce%bb%ce%b7%cf%83%ce%b7-%cf%83%ce%b5-%ce%b4%ce%b9%ce%b1%cf%80%ce%bf%ce%bb%ce%b9%cf%84%ce%b9%cf%83%ce%bc%ce%b9%ce%ba%cf%8c-%ce%b5%ce%ba%cf%80%ce%b1%ce%b9%ce%b4%ce%b5
SUMMARY:ΠΡΟΣΚΛΗΣΗ σε Διαπολιτισμικό Εκπαιδευτικό Σεμινάριο για Τοπικές Αρχές.
DTSTART:20150313T090000Z
END:VEVENT
END:VCALENDAR
