BEGIN:VCALENDAR
VERSION:2.0
PRODID:-//DIGITAL FACTORY//EVENTS MAKER V1.6.14//EN
CALSCALE:GREGORIAN
BEGIN:VEVENT
DTEND:20180518T210000Z
UID:69e5481273b09
DTSTAMP:20260419T212434Z
CATEGORIES:ΓΙΟΡΤΗ
LOCATION:ΠΛΑΤΕΙΑ ΕΙΡΗΝΗΣ ΔΗΜΟΤΙΚΟΥ ΜΕΓΑΡΟΥ 
DESCRIPTION:ΕΝΑΡΞΗ ΤΕΛΙΚΩΝ ΓΙΟΡΤΩΝ ΑΝΟΙΚΤΟΥ ΣΧΟΛΕΙΟΥ ΔΗΜΟΥ ΑΓΙΟΥ ΑΘΑΝΑΣΙΟΥ ΓΙΑ ΤΗ ΣΧΟΛΙΚΗ ΧΡΟΝΙΑ 2017-18 ΜΕ ΤΟ ΠΟΛΥΠΟΛΙΤΙΣΜΙΚΟ ΦΕΣΤΙΒΑΛ ΣΤΙΣ 18 ΜΑΪΟΥ\, 2018    Παρασκευή 18 Μαΐου 2018 / 6.00μ.μ. / Πλατεία Ειρήνης (μπροστά από το Δημοτικό Μέγαρο)    Η εκδήλωση θα περιλαμβάνει\, μεταξύ άλλων\, τις πιο κάτω δράσεις του Ανοικτού Σχολείου μας:    Α) Έκθεση Ζωγραφικής\, Χειροτεχνίας\, Πλεξίματος\, Φωτογραφίας\, Αγιογραφίας\, Ικεπάνα και Κηπουρικής με τα έργα και κατασκευές των μαθητών των αντίστοιχων τμημάτων του Ανοικτού Σχολείου\,    Β) Χορούς Hip-Hop και Παραδοσιακούς από τα αντίστοιχα παιδικά τμήματα του Ανοικτού Σχολείου\,    Γ) Εργαστήρια Ζωγραφικής\, Ρομποτικής και Σκακιού με τους εκπαιδευτές του Ανοικτού Σχολείου\,    Δ) Επίδειξη του μαθήματος Ξιφασκίας και    Ε) Μουσικό Πρόγραμμα από το Μουσικό Εργαστήρι.    Διδασκαλία: Ελίνα Ιωάννου και Έβελιν Αναστασίου (Ζωγραφική)\, Γιάννα Βιολάρη (Χειροτεχνία)\, Φρύνη Πάζουρου (Φωτογραφία)\, Δημήτρης Λουκά (Αγιογραφία)\, Λούλα Σιλβέστρου (Ικεπάνα)\, Καλλισθένη Μυλωνά (Κηπουρική)\, Ειρήνη Χριστοφή (Hip-Hop)\, Ξάνθος Ξάνθου (Παραδοσιακοί χοροί)\, Ιζαμπέλα Κωνσταντίνου (Πλέξιμο)\, Άντρη Χατζηττοφή (Ρομποτική)\, Βασίλης Αριστοτέλους (Σκάκι)\, Όλγα Φαλίνα (Ξιφασκία)\, Αγγέλα Πουργουρίδου (Μουσικό Εργαστήρι).
URL;VALUE=URI:https://www.openschoolcy.com/events/event/%cf%80%ce%bf%ce%bb%cf%85%cf%80%ce%bf%ce%bb%ce%b9%cf%84%ce%b9%cf%83%ce%bc%ce%b9%ce%ba%cf%8c-%cf%86%ce%b5%cf%83%cf%84%ce%b9%ce%b2%ce%ac%ce%bb-%ce%b4%ce%ae%ce%bc%ce%bf%cf%85-%ce%b1%ce%b3-%ce%b1%ce%b8
SUMMARY:Πολυπολιτισμικό Φεστιβάλ Δήμου Αγ. Αθανασίου
DTSTART:20180518T180000Z
END:VEVENT
END:VCALENDAR
