BEGIN:VCALENDAR
VERSION:2.0
PRODID:-//DIGITAL FACTORY//EVENTS MAKER V1.6.14//EN
CALSCALE:GREGORIAN
BEGIN:VEVENT
DTEND:20160424T190000Z
UID:69e4f9e06ffc5
DTSTAMP:20260419T155056Z
CATEGORIES:ΕΚΘΕΣΗ
LOCATION:ΠΟΛΙΤΙΣΤΙΚΟ ΚΕΝΤΡΟ ΔΗΜΟΥ ΑΓΙΟΥ ΑΘΑΝΑΣΙΟΥ 
DESCRIPTION:Το «Ανοικτό Σχολείο» του Δήμου Αγίου Αθανασίου σας προσκαλεί στην πασχαλινή έκθεση που διοργανώνουν τα τμήματα Ικεπάνα του «Ανοικτού Σχολείου»\, σε συνεργασία με το Ικεπάνα Γκρουπ.    Τα εγκαίνια θα τελέσει ο Δήμαρχος Αγίου Αθανασίου\, κ. Κυριάκος Χατζηττοφής.      Παρασκευή 22 Απριλίου 2016 και ώρα 7.00μμ στο Πολιτιστικό Κέντρο του Δήμου (παλαιό δημοτικό σχολείο).    Διάρκεια 22/04/16 – 24/04/16  Ώρες λειτουργίας 10.00πμ – 1.00μμ και 4.00μμ – 7.00μμ.    Πληροφορίες: 97717187
URL;VALUE=URI:https://www.openschoolcy.com/events/event/%cf%80%ce%b1%cf%83%cf%87%ce%b1%ce%bb%ce%b9%ce%bd%ce%b7-%ce%b5%ce%ba%ce%b8%ce%b5%cf%83%ce%b7-%ce%b9%ce%ba%ce%b5%cf%80%ce%b1%ce%bd%ce%b1
SUMMARY:ΠΑΣΧΑΛΙΝΗ ΕΚΘΕΣΗ ΙΚΕΠΑΝΑ
DTSTART:20160422T190000Z
END:VEVENT
END:VCALENDAR
