BEGIN:VCALENDAR
VERSION:2.0
PRODID:-//DIGITAL FACTORY//EVENTS MAKER V1.6.14//EN
CALSCALE:GREGORIAN
BEGIN:VEVENT
DTEND:20170627T210000Z
UID:69e52df9a6671
DTSTAMP:20260419T193313Z
CATEGORIES:ΕΚΔΗΛΩΣΕΙΣ
LOCATION:ΑΙΘΟΥΣΑ ΕΚΔΗΛΩΣΕΩΝ "ΚΩΣΤΑΣ ΣΟΦΙΑΝΟΣ" ΔΗΜΟΤΙΚΟΥ ΜΕΓΑΡΟΥ ΑΓΙΟΥ ΑΘΑΝΑΣΙΟΥ 
DESCRIPTION:Τρίτη 27 Ιουνίου 2017 / 7.30μ.μ. /Αίθουσα Εκδηλώσεων Δημαρχείου Αγίου Αθανασίου:      Μουσική Εκδήλωση από τη Μουσική Σχολή\, το Μουσικό Εργαστήρι και την Παιδική Χορωδία του «Ανοικτού Σχολείου» με την ευκαιρία της Παγκόσμιας Ημέρας Μουσικής    Οι εκπαιδευόμενοι της Μουσικής Σχολής\, υπό την καθοδήγηση των εκπαιδευτών τους (Γιώργος Ηρακλείδης - κιθάρα\, Βαρβάρα Λουκά – βιολί\, Αγγέλα Πουργουρίδου\, Άντρια Κωνσταντινίδου και Δήμητρα Τιμολή – πιάνο\, Δήμητρα Τιμολή - Φλάουτο) θα παρουσιάσουν μέρος της δουλειάς τους με τη συνοδεία πιάνου\, κλασικής κιθάρας\, φλάουτου και βιολιού\, ενώ παράλληλα θα παρουσιάσουν μουσικό πρόγραμμα τα παιδιά του Μουσικού Εργαστηρίου και θα μας τραγουδήσουν τα παιδιά από την Παιδική Χορωδία του «Ανοικτού Σχολείου».
URL;VALUE=URI:https://www.openschoolcy.com/events/event/%ce%bc%ce%bf%cf%85%cf%83%ce%b9%ce%ba%ce%b7-%ce%b5%ce%ba%ce%b4%ce%b7%ce%bb%cf%89%cf%83%ce%b7
SUMMARY:ΜΟΥΣΙΚΗ ΕΚΔΗΛΩΣΗ
DTSTART:20170627T193000Z
END:VEVENT
END:VCALENDAR
