BEGIN:VCALENDAR
VERSION:2.0
PRODID:-//DIGITAL FACTORY//EVENTS MAKER V1.6.14//EN
CALSCALE:GREGORIAN
BEGIN:VEVENT
DTEND:20190529T210000Z
UID:69e74118b74ce
DTSTAMP:20260421T091920Z
CATEGORIES:ΕΚΔΗΛΩΣΕΙΣ
LOCATION:ΠΟΛΙΤΙΣΤΙΚΟ ΚΕΝΤΡΟ ΔΗΜΟΥ ΑΓΙΟΥ ΑΘΑΝΑΣΙΟΥ 
DESCRIPTION:Με ιδιαίτερη χαρά\, το Ανοικτό Σχολείο Δήμου Αγίου Αθανασίου σας προσκαλεί σε Μεσαιωνική Βραδιά για την παρουσίαση του ιστορικού βιβλίου της Λίνας Έλληνα\, με γευσιγνωσία μεσαιωνικών συνταγών και κυπριακών κρασιών\, την Τετάρτη 29/05/2019 και ώρα 7.00μμ\, στο Πολιτιστικό Κέντρο του Δήμου Αγίου Αθανασίου.  Είσοδος ελεύθερη.  Πληροφορίες 97717187.
URL;VALUE=URI:https://www.openschoolcy.com/events/event/%ce%bc%ce%b5%cf%83%ce%b1%ce%b9%cf%89%ce%bd%ce%b9%ce%ba%ce%ae-%ce%b2%cf%81%ce%b1%ce%b4%ce%b9%ce%ac-%cf%83%cf%84%ce%bf%ce%bd-%ce%ac%ce%b3%ce%b9%ce%bf-%ce%b1%ce%b8%ce%b1%ce%bd%ce%ac%cf%83%ce%b9%ce%bf
SUMMARY:Μεσαιωνική βραδιά στον Άγιο Αθανάσιο
DTSTART:20190529T190000Z
END:VEVENT
END:VCALENDAR
