BEGIN:VCALENDAR
VERSION:2.0
PRODID:-//DIGITAL FACTORY//EVENTS MAKER V1.6.14//EN
CALSCALE:GREGORIAN
BEGIN:VEVENT
DTEND:20180929T130000Z
UID:69e72ee672655
DTSTAMP:20260421T080142Z
CATEGORIES:ΕΓΓΡΑΦΕΣ
LOCATION:ΑΙΘΟΥΣΑ ΕΚΔΗΛΩΣΕΩΝ "ΚΩΣΤΑΣ ΣΟΦΙΑΝΟΣ" ΔΗΜΟΤΙΚΟΥ ΜΕΓΑΡΟΥ ΑΓΙΟΥ ΑΘΑΝΑΣΙΟΥ 
DESCRIPTION:Κοπιάστε στην Αίθουσα Εκδηλώσεων του Δημοτικού Μεγάρου Αγίου Αθανασίου για να εγγραφείτε για τη σχολική χρονιά 2018-19 και να γνωρίσετε από κοντά τους εκπαιδευτέσ όλων των ειδικοτήτων του Ανοικτού Σχολείου Αγίου Αθανασίου. Να μάθετε τις μέρες και ώρες του κάθε μαθήματος\, να γνωρίσετε το κάθε μάθημα\, να ενημερωθείτε εφ' όλης της ύλης και να συνομιλήσετε με τους εκπαιδευτές.
URL;VALUE=URI:https://www.openschoolcy.com/events/event/%ce%bc%ce%b5%cf%81%ce%b1-%ce%b5%ce%b3%ce%b3%cf%81%ce%b1%cf%86%cf%89%ce%bd-%ce%ba%ce%b1%ce%b9-%ce%b3%ce%bd%cf%89%cf%81%ce%b9%ce%bc%ce%b9%ce%b1%cf%83-%ce%bc%ce%b5-%cf%84%ce%bf%cf%85%cf%83-%ce%b5%ce%ba-3
SUMMARY:ΜΕΡΑ ΕΓΓΡΑΦΩΝ ΚΑΙ ΓΝΩΡΙΜΙΑΣ ΜΕ ΤΟΥΣ ΕΚΠΑΙΔΕΥΤΕΣ 2018-19
DTSTART:20180929T103000Z
END:VEVENT
END:VCALENDAR
