BEGIN:VCALENDAR
VERSION:2.0
PRODID:-//DIGITAL FACTORY//EVENTS MAKER V1.6.14//EN
CALSCALE:GREGORIAN
BEGIN:VEVENT
DTEND:20170923T130000Z
UID:69e72e7635e60
DTSTAMP:20260421T075950Z
CATEGORIES:ΕΓΓΡΑΦΕΣ
LOCATION:ΑΙΘΟΥΣΑ ΕΚΔΗΛΩΣΕΩΝ "ΚΩΣΤΑΣ ΣΟΦΙΑΝΟΣ" ΔΗΜΟΤΙΚΟΥ ΜΕΓΑΡΟΥ ΑΓΙΟΥ ΑΘΑΝΑΣΙΟΥ 
DESCRIPTION:Οι εγγραφές θα είναι Σάββατο 23 Σεπτεμβρίου 10.30-13.00 στον πρώτο όροφο του Δημοτικού Μεγάρου Αγ. Αθανασίου.
URL;VALUE=URI:https://www.openschoolcy.com/events/event/%ce%bc%ce%b5%cf%81%ce%b1-%ce%b5%ce%b3%ce%b3%cf%81%ce%b1%cf%86%cf%89%ce%bd-%ce%ba%ce%b1%ce%b9-%ce%b3%ce%bd%cf%89%cf%81%ce%b9%ce%bc%ce%b9%ce%b1%cf%83-%ce%bc%ce%b5-%cf%84%ce%bf%cf%85%cf%83-%ce%b5%ce%ba-2
SUMMARY:ΜΕΡΑ ΕΓΓΡΑΦΩΝ ΚΑΙ ΓΝΩΡΙΜΙΑΣ ΜΕ ΤΟΥΣ ΕΚΠΑΙΔΕΥΤΕΣ - REGISTRATION DAY
DTSTART:20170923T103000Z
END:VEVENT
END:VCALENDAR
