BEGIN:VCALENDAR
VERSION:2.0
PRODID:-//DIGITAL FACTORY//EVENTS MAKER V1.6.14//EN
CALSCALE:GREGORIAN
BEGIN:VEVENT
DTEND:20160924T130000Z
UID:69e72ea3b1ac9
DTSTAMP:20260421T080035Z
CATEGORIES:ΕΓΓΡΑΦΕΣ
LOCATION:ΑΙΘΟΥΣΑ ΕΚΔΗΛΩΣΕΩΝ "ΚΩΣΤΑΣ ΣΟΦΙΑΝΟΣ" ΔΗΜΟΤΙΚΟΥ ΜΕΓΑΡΟΥ ΑΓΙΟΥ ΑΘΑΝΑΣΙΟΥ 
DESCRIPTION:Κοπιάστε το Σάββατο 24 Σεπτεμβρίου\, 2016\, από τις 10.30 μέχρι τις 13.00\, στον 1ο όροφο του Δημοτικού Μεγάρου Αγίου Αθανασίου\, στη μέρα εγγραφών και γνωριμίας με τους εκπαιδευτές.    Πληροφορίες: 97717187.
URL;VALUE=URI:https://www.openschoolcy.com/events/event/%ce%bc%ce%b5%cf%81%ce%b1-%ce%b5%ce%b3%ce%b3%cf%81%ce%b1%cf%86%cf%89%ce%bd-%ce%ba%ce%b1%ce%b9-%ce%b3%ce%bd%cf%89%cf%81%ce%b9%ce%bc%ce%b9%ce%b1%cf%83-%ce%ba%ce%b1%ce%b9-%ce%bc%ce%b5-%cf%84%ce%bf%cf%85
SUMMARY:ΜΕΡΑ ΕΓΓΡΑΦΩΝ ΚΑΙ ΓΝΩΡΙΜΙΑΣ ΚΑΙ ΜΕ ΤΟΥΣ ΕΚΠΑΙΔΕΥΤΕΣ/ΤΡΙΕΣ
DTSTART:20160924T103000Z
END:VEVENT
END:VCALENDAR
