BEGIN:VCALENDAR
VERSION:2.0
PRODID:-//DIGITAL FACTORY//EVENTS MAKER V1.6.14//EN
CALSCALE:GREGORIAN
BEGIN:VEVENT
DTEND:20150117T123000Z
UID:69e52ddbe6521
DTSTAMP:20260419T193243Z
CATEGORIES:ΓΙΟΡΤΗ
LOCATION:ΠΟΛΙΤΙΣΤΙΚΟ ΚΕΝΤΡΟ ΔΗΜΟΥ ΑΓΙΟΥ ΑΘΑΝΑΣΙΟΥ 
DESCRIPTION:Σας προσκαλούμε στο καθιερωμένο ΚΟΨΙΜΟ της ΒΑΣΙΛΟΠΙΤΤΑΣ του Ανοικτού Σχολείου Δήμου Αγίου Αθανασίου\, το Σάββατο 17 Ιανουαρίου 2015 και ώρα 11:15πμ\, στο ΠΟΛΙΤΙΣΤΙΚΟ ΚΕΝΤΡΟ του Δήμου Αγίου Αθανασίου (παλαιό δημοτικό σχολείο).  You are invited to the New Year’s Party of cutting the traditional Vasilopitta Cake on Saturday 17th January 2015\, at 11:15 am\, at the Cultural Centre of Agios Athanasios (Old Primary School).
URL;VALUE=URI:https://www.openschoolcy.com/events/event/%ce%ba%ce%bf%cf%88%ce%b9%ce%bc%ce%bf-%ce%b2%ce%b1%cf%83%ce%b9%ce%bb%ce%bf%cf%80%ce%b9%cf%84%cf%84%ce%b1%cf%83
SUMMARY:ΚΟΨΙΜΟ ΒΑΣΙΛΟΠΙΤΤΑΣ
DTSTART:20150117T111500Z
END:VEVENT
END:VCALENDAR
