BEGIN:VCALENDAR
VERSION:2.0
PRODID:-//DIGITAL FACTORY//EVENTS MAKER V1.6.14//EN
CALSCALE:GREGORIAN
BEGIN:VEVENT
DTEND:20160117T120000Z
UID:69e52e1261cfd
DTSTAMP:20260419T193338Z
CATEGORIES:ΓΙΟΡΤΗ
LOCATION:ΠΟΛΙΤΙΣΤΙΚΟ ΚΕΝΤΡΟ ΔΗΜΟΥ ΑΓΙΟΥ ΑΘΑΝΑΣΙΟΥ 
DESCRIPTION:Προσκαλείστε στο καθιερωμένο ΚΟΨΙΜΟ της ΒΑΣΙΛΟΠΙΤΤΑΣ του Ανοικτού Σχολείου Δήμου Αγίου Αθανασίου\, την Κυριακή 17 Ιανουαρίου 2016 και ώρα 10:30 πμ\, στο ΠΟΛΙΤΙΣΤΙΚΟ ΚΕΝΤΡΟ του Δήμου Αγίου Αθανασίου (παλαιό δημοτικό σχολείο).    Πληροφορίες: 97717187.
URL;VALUE=URI:https://www.openschoolcy.com/events/event/%ce%ba%ce%bf%cf%88%ce%b9%ce%bc%ce%bf-%ce%b2%ce%b1%cf%83%ce%b9%ce%bb%ce%bf%cf%80%ce%b9%cf%84%cf%84%ce%b1%cf%83-2
SUMMARY:ΚΟΨΙΜΟ ΒΑΣΙΛΟΠΙΤΤΑΣ
DTSTART:20160117T103000Z
END:VEVENT
END:VCALENDAR
