BEGIN:VCALENDAR
VERSION:2.0
PRODID:-//DIGITAL FACTORY//EVENTS MAKER V1.6.14//EN
CALSCALE:GREGORIAN
BEGIN:VEVENT
DTEND:20170115T113000Z
UID:69e5469edb815
DTSTAMP:20260419T211822Z
CATEGORIES:ΕΚΔΗΛΩΣΕΙΣ
LOCATION:ΠΟΛΙΤΙΣΤΙΚΟ ΚΕΝΤΡΟ ΔΗΜΟΥ ΑΓΙΟΥ ΑΘΑΝΑΣΙΟΥ 
DESCRIPTION:ΠΡΟΣΚΛΗΣΗ:    Το «Ανοικτό Σχολείο» του Δήμου Αγίου Αθανασίου σας εύχεται Καλή Χρονιά και σας προσκαλεί στο καθιερωμένο ΚΟΨΙΜΟ της ΒΑΣΙΛΟΠΙΤΤΑΣ\, την ΚΥΡΙΑΚΗ 15 Ιανουαρίου 2017 και ώρα 10:30πμ\, στο ΠΟΛΙΤΙΣΤΙΚΟ ΚΕΝΤΡΟ του Δήμου (παλαιό δημοτικό σχολείο).    Π.Α. (μόνο αν θα παραστείτε) στο τηλ. 97717187.          INVITATION:    Agios Athanasios Open School wishes you happy New Year and invites you to the New Year’s Party of cutting the traditional Vasilopitta Cake on Sunday 15th January 2017\, at 10:30 am\,  at the Cultural Centre of Agios Athanasios (Old Primary School).    Please R.S.V.P. on 97717187.
URL;VALUE=URI:https://www.openschoolcy.com/events/event/%ce%ba%ce%bf%cf%80%ce%b7-%ce%b2%ce%b1%cf%83%ce%b9%ce%bb%ce%bf%cf%80%ce%b9%cf%84%ce%b1%cf%83-150117
SUMMARY:ΚΟΠΗ ΒΑΣΙΛΟΠΙΤΑΣ - 15/01/17
DTSTART:20170115T103000Z
END:VEVENT
END:VCALENDAR
