BEGIN:VCALENDAR
VERSION:2.0
PRODID:-//DIGITAL FACTORY//EVENTS MAKER V1.6.14//EN
CALSCALE:GREGORIAN
BEGIN:VEVENT
DTEND:20180217T013000Z
UID:69e52e6542fed
DTSTAMP:20260419T193501Z
CATEGORIES:ΕΚΔΗΛΩΣΕΙΣ
LOCATION:THE LOUNGE 
DESCRIPTION:Σας προσκαλούμε στο καρναβαλίστικο πάρτι του Ανοικτού Σχολείου και Δημοτικού Συμβουλίου Νεολαίας Αγίου Αθανασίου  την Παρασκευή 16 Φεβρουαρίου\, 2018 και ώρα 8.30μμ στο «The Lounge» (1ος όροφος Εστιατορίου «Ακταίον» στον παραλιακό – απέναντι από το «Θαλασσάκι»)    Τιμή εισόδου: €25.00 με φαγητό και ποτό    Κρατήσεις στο 97717187 (μέχρι 09 Φεβρουαρίου).    Βραβείο καλύτερης αμφίεσης    --------------------------------------------------------------------------------------------------------------------    «Open School» and «Youth Board» of Agios ATHANASIOS Municipality invite you to their carnival party\,   on Friday 16th February\, 2018 at 8.30pm at «The Lounge» (1st floor of “Aktaion” restaurant – opposite “Thalassaki”).    Entrance: €25.00 per person incl. food and drinks         Reservations: 97717187 (until 09 February)     Carnival costume award!
URL;VALUE=URI:https://www.openschoolcy.com/events/event/%ce%ba%ce%b1%cf%81%ce%bd%ce%b1%ce%b2%ce%b1%ce%bb%ce%b9%cf%83%cf%84%ce%b9%ce%ba%ce%bf%cf%83-%cf%87%ce%bf%cf%81%ce%bf%cf%83-carnival-party
SUMMARY:ΚΑΡΝΑΒΑΛΙΣΤΙΚΟΣ ΧΟΡΟΣ - CARNIVAL PARTY
DTSTART:20180216T203000Z
END:VEVENT
END:VCALENDAR
