BEGIN:VCALENDAR
VERSION:2.0
PRODID:-//DIGITAL FACTORY//EVENTS MAKER V1.6.14//EN
CALSCALE:GREGORIAN
BEGIN:VEVENT
DTEND:20150615T213000Z
UID:69e4fac73b14f
DTSTAMP:20260419T155447Z
CATEGORIES:ΕΚΔΗΛΩΣΕΙΣ
LOCATION:ΑΙΘΟΥΣΑ ΕΚΔΗΛΩΣΕΩΝ "ΚΩΣΤΑΣ ΣΟΦΙΑΝΟΣ" ΔΗΜΟΤΙΚΟΥ ΜΕΓΑΡΟΥ ΑΓΙΟΥ ΑΘΑΝΑΣΙΟΥ 
DESCRIPTION:Καλλιτεχνική Παράσταση από τα Τμήματα Μοντέρνου χορού του «Ανοικτού Σχολείου» Αγίου Αθανασίου υπό την καθοδήγηση της εκπαιδεύτριας Μαρίας Περικλέους.
URL;VALUE=URI:https://www.openschoolcy.com/events/event/%ce%ba%ce%b1%ce%bb%ce%bb%ce%b9%cf%84%ce%b5%cf%87%ce%bd%ce%b9%ce%ba%ce%ae-%cf%80%ce%b1%cf%81%ce%ac%cf%83%cf%84%ce%b1%cf%83%ce%b7-%ce%b1%cf%80%cf%8c-%cf%84%ce%b1-%cf%84%ce%bc%ce%ae%ce%bc%ce%b1%cf%84
SUMMARY:Καλλιτεχνική Παράσταση από τα Τμήματα Μοντέρνου Χορού
DTSTART:20150615T200000Z
END:VEVENT
END:VCALENDAR
