BEGIN:VCALENDAR
VERSION:2.0
PRODID:-//DIGITAL FACTORY//EVENTS MAKER V1.6.14//EN
CALSCALE:GREGORIAN
BEGIN:VEVENT
DTEND:20190605T203000Z
UID:69e548245b163
DTSTAMP:20260419T212452Z
CATEGORIES:ΕΡΓΑΣΤΗΡΙ
LOCATION:ΑΙΘΟΥΣΑ ΠΙΣΩ ΑΠΟ ΔΗΜΟΤΙΚΗ ΒΙΒΛΙΟΘΗΚΗ ΑΓ. ΑΘΑΝΑΣΙΟΥ 
DESCRIPTION:Το Ανοικτό Σχολείο Δήμου Αγίου Αθανασίου σε συνεργασία με την Eurostudiescy διοργανώνει εργαστήρι ανάπτυξης δεξιοτήτων σε άνεργους νέους στην αίθουσα πίσω από τη Δημοτική Βιβλιοθήκη (Πλατεία Ειρήνης Δημοτικού Μεγάρου).    &nbsp\;     	Τετάρτη\, 5 Ιουνίου 2019\, 18.30-20.30:   	Αυτογνωσία και Επαγγελματική Επιτυχία   	Ψυχομετρικά τεστ και εργαλεία πρόσληψης   	Τεχνικές Παρουσιάσεων    Εισηγητής: κ. Χαράλαμπος Παπαγιάννης\, Σύμβουλος Επαγγελματικού Προσανατολισμού\, Eurostudiescy    &nbsp\;    &nbsp\;    Αριθμός συμμετεχόντων: 8 (min.) - 20 (max.) άτομα    Δικαίωμα συμμετοχής στο εργαστήρι: 10.00 ευρώ\, προπληρωτέο στα γραφεία του Δήμου Αγίου Αθανασίου    (Ανοικτό Σχολείο\, κα. Χρυσοβαλάντα Σίφουνα Καράμανου). Τα έσοδα θα διατεθούν στο Ανοικτό Σχολείο Αγίου Αθανασίου.    Προτεραιότητα για συμμετοχή στο εργαστήρι\, θα δοθεί σε νέους που είναι άνεργοι.    Πληροφορίες και δήλωση συμμετοχής: 97717187 (κα. Χρυσοβαλάντα Σίφουνα Καράμανου\, Συντονίστρια) ΜΕΧΡΙ 17/5
URL;VALUE=URI:https://www.openschoolcy.com/events/event/%ce%b5%cf%81%ce%b3%ce%b1%cf%83%cf%84%ce%b7%cf%81%ce%b9-%ce%b1%ce%bd%ce%b1%cf%80%cf%84%cf%85%ce%be%ce%b7%cf%83-%ce%b4%ce%b5%ce%be%ce%b9%ce%bf%cf%84%ce%b7%cf%84%cf%89%ce%bd-%cf%83%ce%b5-%ce%b1%ce%bd
SUMMARY:ΕΡΓΑΣΤΗΡΙ ΑΝΑΠΤΥΞΗΣ ΔΕΞΙΟΤΗΤΩΝ ΣΕ ΑΝΕΡΓΟΥΣ ΝΕΟΥΣ - 3
DTSTART:20190605T183000Z
END:VEVENT
END:VCALENDAR
