BEGIN:VCALENDAR
VERSION:2.0
PRODID:-//DIGITAL FACTORY//EVENTS MAKER V1.6.14//EN
CALSCALE:GREGORIAN
BEGIN:VEVENT
DTEND:20190522T203000Z
UID:69e76fb0c5cce
DTSTAMP:20260421T123808Z
CATEGORIES:ΕΡΓΑΣΤΗΡΙ
LOCATION:ΑΙΘΟΥΣΑ ΠΙΣΩ ΑΠΟ ΔΗΜΟΤΙΚΗ ΒΙΒΛΙΟΘΗΚΗ ΑΓ. ΑΘΑΝΑΣΙΟΥ 
DESCRIPTION:Το Ανοικτό Σχολείο Δήμου Αγίου Αθανασίου σε συνεργασία με την Eurostudiescy διοργανώνει εργαστήρι ανάπτυξης δεξιοτήτων σε άνεργους νέους στην αίθουσα πίσω από τη Δημοτική Βιβλιοθήκη (Πλατεία Ειρήνης Δημοτικού Μεγάρου).     	Τετάρτη\, 22 Μαΐου 2019\,30-20.30:   	Βιογραφικό Σημείωμα και σύνταξη συνοδευτικής επιστολής   	Προετοιμασία για Συνέντευξη πρόσληψης   	Επαγγελματική συμπεριφορά και εμφάνιση    Εισηγήτρια: κα. Βαλεντίνα Τουμάνιου\, Διοικητικό Στέλεχος Ανθρώπινου Δυναμικού    Αριθμός συμμετεχόντων: 8 (min.) - 20 (max.) άτομα    Δικαίωμα συμμετοχής στο εργαστήρι: 10.00 ευρώ\, προπληρωτέο στα γραφεία του Δήμου Αγίου Αθανασίου    (Ανοικτό Σχολείο\, κα. Χρυσοβαλάντα Σίφουνα Καράμανου). Τα έσοδα θα διατεθούν στο Ανοικτό Σχολείο Αγίου Αθανασίου.    Προτεραιότητα για συμμετοχή στο εργαστήρι\, θα δοθεί σε νέους που είναι άνεργοι.    Πληροφορίες και δήλωση συμμετοχής: 97717187 (κα. Χρυσοβαλάντα Σίφουνα Καράμανου\, Συντονίστρια) ΜΕΧΡΙ 17/5
URL;VALUE=URI:https://www.openschoolcy.com/events/event/%ce%b5%cf%81%ce%b3%ce%b1%cf%83%cf%84%ce%b7%cf%81%ce%b9-%ce%b1%ce%bd%ce%b1%cf%80%cf%84%cf%85%ce%be%ce%b7%cf%83-%ce%b4%ce%b5%ce%be%ce%b9%ce%bf%cf%84%ce%b7%cf%84%cf%89%ce%bd-%cf%83%ce%b5-%ce%b1%ce%bd-3
SUMMARY:ΕΡΓΑΣΤΗΡΙ ΑΝΑΠΤΥΞΗΣ ΔΕΞΙΟΤΗΤΩΝ ΣΕ ΑΝΕΡΓΟΥΣ ΝΕΟΥΣ - 1
DTSTART:20190522T183000Z
END:VEVENT
END:VCALENDAR
