BEGIN:VCALENDAR
VERSION:2.0
PRODID:-//DIGITAL FACTORY//EVENTS MAKER V1.6.14//EN
CALSCALE:GREGORIAN
BEGIN:VEVENT
DTEND:20190507T210000Z
UID:69e562919f469
DTSTAMP:20260419T231737Z
CATEGORIES:ΔΙΑΛΕΞΕΙΣ
LOCATION:ΠΟΛΙΤΙΣΤΙΚΟ ΚΕΝΤΡΟ ΔΗΜΟΥ ΑΓΙΟΥ ΑΘΑΝΑΣΙΟΥ 
DESCRIPTION:ΠΡΟΣΚΛΗΣΗ    Το Ανοικτό Σχολείο του Δήμου Αγίου Αθανασίου σας προσκαλεί σε βιωματική διάλεξη με θέμα:    «Επιλέγω να γελάσω και να δυναμώσω την υγεία μου»    την Τρίτη 7 Μαΐου\, 2019 και ώρα 7.00μμ στο Πολιτιστικό Κέντρο   του Δήμου  Αγίου Αθανασίου (παλαιό δημοτικό σχολείο).    &nbsp\;    Ομιλητές:    Δημήτρης Μόρφης\, ψυχολόγος\, πιστοποιημένος Life Coach και εκπαιδευτής ευεξίας γέλιου και    Χριστίνα Σταύρου\, εκπαιδευτικός και πιστοποιημένη εμψυχώτρια ευεξίας γέλιου.    &nbsp\;    Π.Α. (μόνο αν θα παραστείτε) στο τηλ. 97717187.    &nbsp\;    Είσοδος: €5.00 (τα έσοδα θα δοθούν για το ανέβασμα των θεατρικών παραστάσεων του Ανοικτού Σχολείου).        &nbsp\;
URL;VALUE=URI:https://www.openschoolcy.com/events/event/%ce%b5%cf%80%ce%b9%ce%bb%ce%ad%ce%b3%cf%89-%ce%bd%ce%b1-%ce%b3%ce%b5%ce%bb%ce%ac%cf%83%cf%89-%ce%ba%ce%b1%ce%b9-%ce%bd%ce%b1-%ce%b4%cf%85%ce%bd%ce%b1%ce%bc%cf%8e%cf%83%cf%89-%cf%84%ce%b7%ce%bd-%cf%85
SUMMARY:Επιλέγω να γελάσω και να δυναμώσω την υγεία μου
DTSTART:20190507T190000Z
END:VEVENT
END:VCALENDAR
