BEGIN:VCALENDAR
VERSION:2.0
PRODID:-//DIGITAL FACTORY//EVENTS MAKER V1.6.14//EN
CALSCALE:GREGORIAN
BEGIN:VEVENT
DTEND:20150919T130000Z
UID:69e715f11d3f8
DTSTAMP:20260421T061513Z
CATEGORIES:ΕΓΓΡΑΦΕΣ
LOCATION:ΑΙΘΟΥΣΑ ΕΚΔΗΛΩΣΕΩΝ "ΚΩΣΤΑΣ ΣΟΦΙΑΝΟΣ" ΔΗΜΟΤΙΚΟΥ ΜΕΓΑΡΟΥ ΑΓΙΟΥ ΑΘΑΝΑΣΙΟΥ 
DESCRIPTION:Οι εγγραφές για το μάθημα των Γαλλικών θα γίνουν στις 19 Σεπτεμβρίου από τις 11.00 έως τις 13.00 στον πρώτο όροφο του δημοτικού μεγάρου Αγίου Αθανασίου.    Οι εγγραφές για τα υπόλοιπα μαθήματα θα γίνουν στις 26 Σεπτεμβρίου\, 10.30 - 13.00\, στον ίδιο χώρο.
URL;VALUE=URI:https://www.openschoolcy.com/events/event/%ce%b5%ce%b3%ce%b3%cf%81%ce%b1%cf%86%ce%b7-%ce%ba%ce%b1%ce%b9-%ce%b3%ce%bd%cf%89%cf%81%ce%b9%ce%bc%ce%b9%ce%b1-%ce%bc%ce%b5-%cf%84%ce%b7%ce%bd-%ce%b5%ce%ba%cf%80%ce%b1%ce%b9%ce%b4%ce%b5%cf%85%cf%84
SUMMARY:ΕΓΓΡΑΦΗ ΚΑΙ ΓΝΩΡΙΜΙΑ ΜΕ ΤΗΝ ΕΚΠΑΙΔΕΥΤΡΙΑ ΤΗΣ ΓΑΛΛΙΚΗΣ ΓΛΩΣΣΑΣ
DTSTART:20150919T110000Z
END:VEVENT
END:VCALENDAR
