BEGIN:VCALENDAR
VERSION:2.0
PRODID:-//DIGITAL FACTORY//EVENTS MAKER V1.6.14//EN
CALSCALE:GREGORIAN
BEGIN:VEVENT
DTEND:20151026T141000Z
UID:69e52f89b89e4
DTSTAMP:20260419T193953Z
CATEGORIES:ΔΙΑΛΕΞΕΙΣ\,ΕΡΓΑΣΤΗΡΙ
LOCATION:ΔΗΜΟΤΙΚΟ ΛΑΟΓΡΑΦΙΚΟ ΜΟΥΣΕΙΟ - ΣΠΕ ΑΓΙΟΥ ΑΘΑΝΑΣΙΟΥ 
DESCRIPTION:ΔΙΗΜΕΡΟ ΕΡΓΑΣΤΗΡΙ ΧΑΡΑΚΤΙΚΗΣ    Το «Ανοικτό Σχολείο» Δήμου Αγίου Αθανασίου σε συνεργασία με τη Σχολή – Μουσείο Χαρακτικής Χαμπή διοργανώνουν ένα Διήμερο Εργαστήρι Χαρακτικής Σάββατο 24 και Κυριακή 25 Οκτωβρίου\, 2015 από τις 9.30π.μ. – 2.00μ.μ. στο χώρο του Δημοτικού Λαογραφικού Μουσείου – ΣΠΕ Αγίου Αθανασίου.    Μια ανοικτή πρόσκληση για μικρούς και μεγάλους που θέλουν να γνωρίσουν για πρώτη φορά από κοντά την τέχνη της χαρακτικής\, με την καθοδήγηση και την υποστήριξη του γνωστού Κύπριου Χαράκτη Χαμπή Τσαγγάρη και των συνεργατών του.      Τα μαθήματα προσφέρονται δωρεάν και οι συμμετέχοντες θα προβούν στην αγορά εργαλείων και υλικών που θα χρειαστούν (παιδιά 3-6 ετών €1.50\, 7 ετών και άνω - ενήλικες €10).    Αργά το απόγευμα του Σαββάτου (19.00) θα δοθεί διάλεξη για τη χαρακτική από το γνωστό σε όλους μας Χαμπή Τσαγγάρη.    Για δηλώσεις συμμετοχής όπως απευθυνθείτε στο τηλ.: 97717187\, ή e-mail: anoikto.sxoleio.ag@cytanet.com.cy    Περιορισμένος αριθμός θέσεων\, βάση προτεραιότητας.
URL;VALUE=URI:https://www.openschoolcy.com/events/event/%ce%b4%ce%b9%ce%b7%ce%bc%ce%b5%cf%81%ce%bf-%ce%b5%cf%81%ce%b3%ce%b1%cf%83%cf%84%ce%b7%cf%81%ce%b9-%cf%87%ce%b1%cf%81%ce%b1%ce%ba%cf%84%ce%b9%ce%ba%ce%b7%cf%83
SUMMARY:ΔΙΗΜΕΡΟ ΕΡΓΑΣΤΗΡΙ ΧΑΡΑΚΤΙΚΗΣ
DTSTART:20151025T093000Z
END:VEVENT
END:VCALENDAR
