BEGIN:VCALENDAR
VERSION:2.0
PRODID:-//DIGITAL FACTORY//EVENTS MAKER V1.6.14//EN
CALSCALE:GREGORIAN
BEGIN:VEVENT
DTEND:20160527T203000Z
UID:69e5443983849
DTSTAMP:20260419T210809Z
CATEGORIES:ΔΙΑΛΕΞΕΙΣ
LOCATION:ΠΟΛΙΤΙΣΤΙΚΟ ΚΕΝΤΡΟ ΔΗΜΟΥ ΑΓΙΟΥ ΑΘΑΝΑΣΙΟΥ 
DESCRIPTION:Πέμπτη 26 Μαϊου και ώρα 7.00μμ    "Υγεία στο χώρο εργασίας: Εργασιακό στρες και Μυοσκελετικές παθήσεις"    Ομιλητές:    Λάκης Δρουσιώτης – Φυσιοθεραπευτής\, Αντιπρόεδρος Συνδέσμου Φυσιοθεραπευτών Κύπρου (MSc Physiotherapy)    Νικόλ Δρουσιώτη – Ψυχολόγος (Bsc Psychology\, MSc Ψυχική υγεία για νέους και εφήβους\, MA Συμβουλευτική – Ψυχοθεραπεία)    Διοργανωτές: Ανοικτό Σχολείο Αγίου Αθανασίου\, ΤΕΠΑΚ\, Europe Direct Λεμεσού    Πληροφορίες: 97717187\, 25964119.
URL;VALUE=URI:https://www.openschoolcy.com/events/event/%ce%b4%ce%b9%ce%b1%ce%bb%ce%b5%ce%be%ce%b7-%cf%85%ce%b3%ce%b5%ce%af%ce%b1-%cf%83%cf%84%ce%bf-%cf%87%cf%8e%cf%81%ce%bf-%ce%b5%cf%81%ce%b3%ce%b1%cf%83%ce%af%ce%b1%cf%82-%ce%b5%cf%81%ce%b3%ce%b1
SUMMARY:ΔΙΑΛΕΞΗ: &quot\;Υγεία στο χώρο εργασίας: Εργασιακό στρες και Μυοσκελετικές παθήσεις&quot\;
DTSTART:20160527T190000Z
END:VEVENT
END:VCALENDAR
