BEGIN:VCALENDAR
VERSION:2.0
PRODID:-//DIGITAL FACTORY//EVENTS MAKER V1.6.14//EN
CALSCALE:GREGORIAN
BEGIN:VEVENT
DTEND:20160505T203000Z
UID:69e512139275e
DTSTAMP:20260419T173411Z
CATEGORIES:ΔΙΑΛΕΞΕΙΣ
LOCATION:ΠΟΛΙΤΙΣΤΙΚΟ ΚΕΝΤΡΟ ΔΗΜΟΥ ΑΓΙΟΥ ΑΘΑΝΑΣΙΟΥ 
DESCRIPTION:Πέμπτη 5 Μαΐου και ώρα 7.00μ.μ. - Πολιτιστικό Κέντρο Δήμου Αγίου Αθανασίου    "Οι σημερινές προκλήσεις για την Ευρωπαϊκή Ένωση και το μέλλον της Ευρωπαϊκής Ενοποίησης"       Ομιλητής: Ανδρέας Κεττής –Επικεφαλής του Γραφείου του Ευρωπαϊκού Κοινοβουλίου στην Κύπρο    Διοργανωτές: Ανοικτό Σχολείο Δήμου Αγίου Αθανασίου\, ΤΕΠΑΚ\, Europe Direct Λεμεσού    Πληροφορίες: 97717187\, 25864119    &nbsp\;
URL;VALUE=URI:https://www.openschoolcy.com/events/event/%ce%b4%ce%b9%ce%b1%ce%bb%ce%b5%ce%be%ce%b7-%ce%bf%ce%b9-%cf%83%ce%b7%ce%bc%ce%b5%cf%81%ce%b9%ce%bd%ce%ad%cf%82-%cf%80%cf%81%ce%bf%ce%ba%ce%bb%ce%ae%cf%83%ce%b5%ce%b9%cf%82-%ce%b3%ce%b9%ce%b1-%cf%84
SUMMARY:ΔΙΑΛΕΞΗ: &quot\;Οι σημερινές προκλήσεις για την Ευρωπαϊκή Ένωση και το μέλλον της Ευρωπαϊκής Ενοποίησης&quot\;
DTSTART:20160505T190000Z
END:VEVENT
END:VCALENDAR
