BEGIN:VCALENDAR
VERSION:2.0
PRODID:-//DIGITAL FACTORY//EVENTS MAKER V1.6.14//EN
CALSCALE:GREGORIAN
BEGIN:VEVENT
DTEND:20150210T211500Z
UID:69e4fb3c02bc3
DTSTAMP:20260419T155644Z
CATEGORIES:ΔΙΑΛΕΞΕΙΣ
LOCATION:ΠΟΛΙΤΙΣΤΙΚΟ ΚΕΝΤΡΟ ΔΗΜΟΥ ΑΓΙΟΥ ΑΘΑΝΑΣΙΟΥ 
DESCRIPTION:Προσκαλείστε σε διάλεξη με θέμα την εξοικονόμηση ενέργειας με ομιλητή το Δρ. Αβραάμ Γεωργίου\, Ανώτερο Λέκτορα του Τμήματος Ηλεκτρολόγων Μηχανικών και Μηχανικών Ηλεκτρονικών Υπολογιστών και Πληροφορικής του Τεχνολογικού Πανεπιστημίου Κύπρου.    Τρίτη 10 Φλεβάρη 2015\, ώρα 7.15μμ στο Πολιτιστικό Κέντρο Δήμου Αγ. Αθανασίου.    Είσοδος ελεύθερη.
URL;VALUE=URI:https://www.openschoolcy.com/events/event/%ce%b4%ce%b9%ce%b1%ce%bb%ce%b5%ce%be%ce%b7-%ce%b8%ce%b5%ce%bc%ce%b1%cf%84%ce%b1-%ce%b5%ce%be%ce%bf%ce%b9%ce%ba%ce%bf%ce%bd%ce%bf%ce%bc%ce%b7%cf%83%ce%b7%cf%83-%ce%b5%ce%bd%ce%b5%cf%81%ce%b3%ce%b5
SUMMARY:ΔΙΑΛΕΞΗ: ΘΕΜΑΤΑ ΕΞΟΙΚΟΝΟΜΗΣΗΣ ΕΝΕΡΓΕΙΑΣ
DTSTART:20150210T191500Z
END:VEVENT
END:VCALENDAR
