BEGIN:VCALENDAR
VERSION:2.0
PRODID:-//DIGITAL FACTORY//EVENTS MAKER V1.6.14//EN
CALSCALE:GREGORIAN
BEGIN:VEVENT
DTEND:20160607T203000Z
UID:69e542886224a
DTSTAMP:20260419T210056Z
CATEGORIES:ΔΙΑΛΕΞΕΙΣ
LOCATION:ΠΟΛΙΤΙΣΤΙΚΟ ΚΕΝΤΡΟ ΔΗΜΟΥ ΑΓΙΟΥ ΑΘΑΝΑΣΙΟΥ 
DESCRIPTION:Τρίτη 7 Ιουνίου και ώρα 7.00μ.μ.    Πολιτιστικό Κέντρο Δήμου Αγίου Αθανασίου    "Γενετικά τροποποιημένα τρόφιμα\, μύθοι και πραγματικότητα"    Ομιλήτρια: Δέσποινα Μιλτιάδους – Επίκουρος Καθηγήτρια Τμήματος Γεωπονικών Επιστημών\, Βιοτεχνολογίας και Επιστήμης Τροφίμων του ΤΕΠΑΚ    Διοργανωτές: Ανοικτό Σχολείο Αγίου Αθανασίου\, ΤΕΠΑΚ και Europe Direct Λεμεσού.    Είσοδος ελεύθερη  Πληροφορίες: 97717187\, 25864119
URL;VALUE=URI:https://www.openschoolcy.com/events/event/%ce%b4%ce%b9%ce%b1%ce%bb%ce%b5%ce%be%ce%b7-%ce%b3%ce%b5%ce%bd%ce%b5%cf%84%ce%b9%ce%ba%ce%ac-%cf%84%cf%81%ce%bf%cf%80%ce%bf%cf%80%ce%bf%ce%b9%ce%b7%ce%bc%ce%ad%ce%bd%ce%b1-%cf%84%cf%81%cf%8c%cf%86
SUMMARY:ΔΙΑΛΕΞΗ: &quot\;Γενετικά τροποποιημένα τρόφιμα\, μύθοι και πραγματικότητα&quot\;
DTSTART:20160607T190000Z
END:VEVENT
END:VCALENDAR
