BEGIN:VCALENDAR
VERSION:2.0
PRODID:-//DIGITAL FACTORY//EVENTS MAKER V1.6.14//EN
CALSCALE:GREGORIAN
BEGIN:VEVENT
DTEND:20150331T210000Z
UID:69e4fa9068526
DTSTAMP:20260419T155352Z
CATEGORIES:ΔΙΑΛΕΞΕΙΣ
LOCATION:ΠΟΛΙΤΙΣΤΙΚΟ ΚΕΝΤΡΟ ΔΗΜΟΥ ΑΓΙΟΥ ΑΘΑΝΑΣΙΟΥ 
DESCRIPTION:Προσκαλείστε στην επόμενη διάλεξη του «Πανεπιστήμιου του Δημότη» που θα πραγματοποιηθεί την Τρίτη 31 Μαρτίου\, 2015 και ώρα 7:15 μμ\, με ομιλητή το Γλωσσολόγο και Καθηγητή Βυζαντινής Μουσικής\, κ. Ανδρέα Παντελίδη.     Ο ομιλητής θα αναπτύξει το θέμα «Βυζαντινή Μουσική: μια πηγή κατανόησης της αρχαιοελληνικής μουσικής – μια πηγή ερμηνείας της νεοελληνικής (δημώδους – ρεμπετικολαϊκής)».     Η διάλεξη θα φιλοξενηθεί στο Πολιτιστικό Κέντρο του Δήμου Αγίου Αθανασίου.    Είσοδος ελεύθερη.    Πληροφορίες στο τηλ. 97717187.
URL;VALUE=URI:https://www.openschoolcy.com/events/event/%ce%b4%ce%b9%ce%b1%ce%bb%ce%b5%ce%be%ce%b7-%ce%b2%cf%85%ce%b6%ce%b1%ce%bd%cf%84%ce%b9%ce%bd%ce%ae-%ce%bc%ce%bf%cf%85%cf%83%ce%b9%ce%ba%ce%ae-%ce%bc%ce%b9%ce%b1-%cf%80%ce%b7%ce%b3%ce%ae-%ce%ba
SUMMARY:ΔΙΑΛΕΞΗ: «Βυζαντινή Μουσική: μια πηγή κατανόησης της αρχαιοελληνικής μουσικής – μια πηγή ερμηνείας της νεοελληνικής (δημώδους – ρεμπετικολαϊκής)»
DTSTART:20150331T191500Z
END:VEVENT
END:VCALENDAR
