BEGIN:VCALENDAR
VERSION:2.0
PRODID:-//DIGITAL FACTORY//EVENTS MAKER V1.6.14//EN
CALSCALE:GREGORIAN
BEGIN:VEVENT
DTEND:20150310T210000Z
UID:69e4fb786c1fb
DTSTAMP:20260419T155744Z
CATEGORIES:ΔΙΑΛΕΞΕΙΣ
LOCATION:ΠΟΛΙΤΙΣΤΙΚΟ ΚΕΝΤΡΟ ΔΗΜΟΥ ΑΓΙΟΥ ΑΘΑΝΑΣΙΟΥ 
DESCRIPTION:Προσκαλείστε στη διάλεξη του «Πανεπιστημίου του Δημότη» που θα πραγματοποιηθεί την Τρίτη 10 Μαρτίου2015  και ώρα 7:15 μμ\, με ομιλητή τον Δρ. Αλέξανδρο Χαραλαμπίδη\, Επίκουρο Καθηγητή στο Εργαστήριο Ανανεώσιμης Ενέργειας του Τμήματος Επιστήμης και Τεχνολογίας Περιβάλλοντος του Τεχνολογικού Πανεπιστημίου\, ο οποίος θα αναπτύξει το θέμα «Ανανεώσιμες Πηγές Ενέργειας και Εξοικονόμηση Ενέργειας – Από ιδέα σε χρηματοδότηση: Πορεία 3 ετών».    Η διάλεξη θα φιλοξενηθεί στο Πολιτιστικό Κέντρο του Δήμου Αγίου Αθανασίου.    Είσοδος ελεύθερη.    Πληροφορίες 97717187.    &nbsp\;    &nbsp\;
URL;VALUE=URI:https://www.openschoolcy.com/events/event/%ce%b4%ce%b9%ce%b1%ce%bb%ce%b5%ce%be%ce%b7-%ce%b1%ce%bd%ce%b1%ce%bd%ce%b5%cf%89%cf%83%ce%b9%ce%bc%ce%b5%cf%83-%cf%80%ce%b7%ce%b3%ce%b5%cf%83-%ce%b5%ce%bd%ce%b5%cf%81%ce%b3%ce%b5%ce%b9%ce%b1%cf%83
SUMMARY:ΔΙΑΛΕΞΗ: &quot\;ΑΝΑΝΕΩΣΙΜΕΣ ΠΗΓΕΣ ΕΝΕΡΓΕΙΑΣ ΚΑΙ ΕΞΟΙΚΟΝΟΜΗΣΗ ΕΝΕΡΓΕΙΑΣ - ΑΠΟ ΙΔΕΑ ΣΕ ΧΡΗΜΑΤΟΔΟΤΗΣΗ: ΠΟΡΕΙΑ 3 ΕΤΩΝ&quot\;
DTSTART:20150310T191500Z
END:VEVENT
END:VCALENDAR
