BEGIN:VCALENDAR
VERSION:2.0
PRODID:-//DIGITAL FACTORY//EVENTS MAKER V1.6.14//EN
CALSCALE:GREGORIAN
BEGIN:VEVENT
DTEND:20180326T210000Z
UID:69e54b84b9304
DTSTAMP:20260419T213916Z
CATEGORIES:ΔΙΑΛΕΞΕΙΣ
LOCATION:ΠΟΛΙΤΙΣΤΙΚΟ ΚΕΝΤΡΟ ΔΗΜΟΥ ΑΓΙΟΥ ΑΘΑΝΑΣΙΟΥ 
DESCRIPTION:Tο «Ανοικτό Σχολείο» του Δήμου Αγίου Αθανασίου διοργανώνει διάλεξη με τον ψυχολόγο Στράτο Φελλά με θέμα "Το φαινόμενο του Εωσφόρου".    Η διάλεξη θα πραγματοποιηθεί τη Δευτέρα 26 Μαρτίου\, 2018 η ώρα 19:00-21:00.     Η διάλεξη θα παρουσιάσει κοινωνικά πειράματα που μας βοηθούν να κατανοήσουμε τη φύση του κακού και την ανήθικη συμπεριφορά στους ανθρώπους.    Πληροφορίες και δήλωση συμμετοχής στο τηλ. 97717187.    Είσοδος: 5.00€  (Τα έσοδα θα διατεθούν για το ανέβασμα της καλοκαιρινής θεατρικής παράστασης της θεατρικής ομάδας του Ανοικτού Σχολείου Αγ. Αθανασίου).
URL;VALUE=URI:https://www.openschoolcy.com/events/event/%ce%b4%ce%b9%ce%ac%ce%bb%ce%b5%ce%be%ce%b7-%cf%84%ce%bf-%cf%86%ce%b1%ce%b9%ce%bd%cf%8c%ce%bc%ce%b5%ce%bd%ce%bf-%cf%84%ce%bf%cf%85-%ce%b5%cf%89%cf%83%cf%86%cf%8c%cf%81%ce%bf%cf%85
SUMMARY:Διάλεξη: Το φαινόμενο του Εωσφόρου
DTSTART:20180326T190000Z
END:VEVENT
END:VCALENDAR
