BEGIN:VCALENDAR
VERSION:2.0
PRODID:-//DIGITAL FACTORY//EVENTS MAKER V1.6.14//EN
CALSCALE:GREGORIAN
BEGIN:VEVENT
DTEND:20180416T210000Z
UID:69e547bcf29a8
DTSTAMP:20260419T212308Z
CATEGORIES:ΔΙΑΛΕΞΕΙΣ
LOCATION:ΠΟΛΙΤΙΣΤΙΚΟ ΚΕΝΤΡΟ ΔΗΜΟΥ ΑΓΙΟΥ ΑΘΑΝΑΣΙΟΥ 
DESCRIPTION:Tο «Ανοικτό Σχολείο» του Δήμου Αγίου Αθανασίου διοργανώνει διάλεξη με θέμα: "Κρίσεις Πανικού"    (Με τα κρούσματα να αυξάνονται\, η διάλεξη θα παρουσιάσει τα συμπτώματα\, τα αίτια και τη θεραπεία για τις κρίσεις πανικού)    τη Δευτέρα 16 Απριλίου\, 2018 και ώρα 7.00μμ στο Πολιτιστικό Κέντρο του Δήμου (παλαιό Δημοτικό Σχολείο).    Ομιλητής:  Στράτος Φελλάς  Ψυχολόγος    Π.Α. (μόνο αν θα παραστείτε) στο τηλ. 97717187.     Είσοδος 5.00€.  (Τα έσοδα θα διατεθούν για το ανέβασμα της καλοκαιρινής θεατρικής παράστασης της θεατρικής ομάδας του Ανοικτού Σχολείου Αγ. Αθανασίου).
URL;VALUE=URI:https://www.openschoolcy.com/events/event/%ce%b4%ce%b9%ce%ac%ce%bb%ce%b5%ce%be%ce%b7-%ce%ba%cf%81%ce%af%cf%83%ce%b5%ce%b9%cf%82-%cf%80%ce%b1%ce%bd%ce%b9%ce%ba%ce%bf%cf%8d
SUMMARY:Διάλεξη: Κρίσεις Πανικού
DTSTART:20180416T190000Z
END:VEVENT
END:VCALENDAR
