BEGIN:VCALENDAR
VERSION:2.0
PRODID:-//DIGITAL FACTORY//EVENTS MAKER V1.6.14//EN
CALSCALE:GREGORIAN
BEGIN:VEVENT
DTEND:20180320T210000Z
UID:69e54996cde88
DTSTAMP:20260419T213102Z
CATEGORIES:ΔΙΑΛΕΞΕΙΣ
LOCATION:ΠΟΛΙΤΙΣΤΙΚΟ ΚΕΝΤΡΟ ΔΗΜΟΥ ΑΓΙΟΥ ΑΘΑΝΑΣΙΟΥ 
DESCRIPTION:ΠΡΟΣΚΛΗΣΗ:    Ο Δήμος Αγίου Αθανασίου και το «Ανοικτό Σχολείο» του σας προσκαλούν σε διάλεξη με θέμα:   «Γιατί αποτυγχάνουν οι δίαιτες\;»\,   την Τρίτη 20 Μαρτίου\, 2018 και ώρα 7.00μμ   στο Πολιτιστικό Κέντρο του Δήμου (παλαιό Δημοτικό Σχολείο).    Ομιλήτρια:   Άννα Κορτέση  Lifestyle Διαιτολόγος και Κλινικός Διατροφολόγος    Π.Α. (μόνο αν θα παραστείτε) στο τηλ. 97717187.    Είσοδος ελεύθερη.
URL;VALUE=URI:https://www.openschoolcy.com/events/event/%ce%b4%ce%b9%ce%ac%ce%bb%ce%b5%ce%be%ce%b7-%ce%b3%ce%b9%ce%b1%cf%84%ce%af-%ce%b1%cf%80%ce%bf%cf%84%cf%85%ce%b3%cf%87%ce%ac%ce%bd%ce%bf%cf%85%ce%bd-%ce%bf%ce%b9-%ce%b4%ce%af%ce%b1%ce%b9%cf%84%ce%b5
SUMMARY:Διάλεξη: Γιατί αποτυγχάνουν οι δίαιτες\;
DTSTART:20180320T190000Z
END:VEVENT
END:VCALENDAR
