BEGIN:VCALENDAR
VERSION:2.0
PRODID:-//DIGITAL FACTORY//EVENTS MAKER V1.6.14//EN
CALSCALE:GREGORIAN
BEGIN:VEVENT
DTEND:20150611T210000Z
UID:69e5166002905
DTSTAMP:20260419T175232Z
CATEGORIES:ΕΚΔΗΛΩΣΕΙΣ
LOCATION:ΑΙΘΟΥΣΑ ΕΚΔΗΛΩΣΕΩΝ "ΚΩΣΤΑΣ ΣΟΦΙΑΝΟΣ" ΔΗΜΟΤΙΚΟΥ ΜΕΓΑΡΟΥ ΑΓΙΟΥ ΑΘΑΝΑΣΙΟΥ 
DESCRIPTION:Τα τμήματα ΗΙΡ ΗΟΡ με την Μαρίνα Φώτη και τα τμήματα Παραδοσιακών - Λαϊκών Χορών με τους Γιώργο Θωμά και Άννα Λαυρεντίου θα παρουσιάσουν μέρος της δουλειάς που διδάχτηκαν ολόχρονα οι συμμετέχοντες.
URL;VALUE=URI:https://www.openschoolcy.com/events/event/%ce%b2%cf%81%ce%b1%ce%b4%ce%b9%ce%b1-%ce%b7%ce%b9%cf%81-%ce%b7%ce%bf%cf%81-%ce%ba%ce%b1%ce%b9-%cf%80%ce%b1%cf%81%ce%b1%ce%b4%ce%bf%cf%83%ce%b9%ce%b1%ce%ba%cf%89%ce%bd-%ce%bb%ce%b1%cf%8a%ce%ba%cf%89
SUMMARY:ΒΡΑΔΙΑ ΗΙΡ ΗΟΡ ΚΑΙ ΠΑΡΑΔΟΣΙΑΚΩΝ-ΛΑΪΚΩΝ ΧΟΡΩΝ
DTSTART:20150611T193000Z
END:VEVENT
END:VCALENDAR
