BEGIN:VCALENDAR
VERSION:2.0
PRODID:-//DIGITAL FACTORY//EVENTS MAKER V1.6.14//EN
CALSCALE:GREGORIAN
BEGIN:VEVENT
DTEND:20151128T190000Z
UID:69e4fa514631c
DTSTAMP:20260419T155249Z
CATEGORIES:ΕΚΔΗΛΩΣΕΙΣ
DESCRIPTION:Ο Δήμαρχος και τα Μέλη του Δημοτικού Συμβουλίου Αγίου Αθανασίου σας προσκαλούν σε εκδήλωση για το Άναμμα του Χριστουγεννιάτικου Διάκοσμου που θα γίνει το Σάββατο 28 Νοεμβρίου 2015 και ώρα 5.00μ.μ. στην «Πλατεία Ειρήνης» (μπροστά από το Δημοτικό Μέγαρο).    Η εκδήλωση θα περιλαμβάνει χαιρετισμό από το Δήμαρχο\, φωταγώγηση του Χριστουγεννιάτικου Δέντρου\, καλλιτεχνικό πρόγραμμα από τις χορωδίες των σχολείων του δήμου\, τη Δημοτική Xορωδία Αγίου Αθανασίου\, την Παιδική Χορωδία και τα χορευτικά συγκροτήματα του «Ανοικτού Σχολείου» Δήμου Αγίου Αθανασίου. Στο χώρο θα λειτουργήσει εργαστήρι χριστουγεννιάτικων κατασκευών\, face painting και χριστουγεννιάτικο παζαράκι από το ΣΚΕ Αγίου Αθανασίου.      Στο χώρο θα γίνει περισυλλογή καινούργιων παιχνιδιών\, ρουχισμού και υπόδησης\, σε συνεργασία με την Κοινοτική Αστυνόμευση Αγίου Αθανασίου\, για να δοθούν σε ευπαθείς ομάδες του δήμου κατά τη διάρκεια των Χριστουγέννων.    Πληροφορίες: 25864130 (07.30-15.00).
URL;VALUE=URI:https://www.openschoolcy.com/events/event/%ce%ac%ce%bd%ce%b1%ce%bc%ce%bc%ce%b1-%cf%87%cf%81%ce%b9%cf%83%cf%84%ce%bf%cf%85%ce%b3%ce%b5%ce%bd%ce%bd%ce%b9%ce%ac%cf%84%ce%b9%ce%ba%ce%bf%cf%85-%ce%b4%ce%b9%ce%ac%ce%ba%ce%bf%cf%83%ce%bc%ce%bf%cf%85
SUMMARY:Άναμμα Χριστουγεννιάτικου Διάκοσμου
DTSTART:20151128T170000Z
END:VEVENT
END:VCALENDAR
